BEGIN:VCALENDAR
VERSION:2.0
PRODID:-//Bürgerstiftung-OS - ECPv6.11.2//NONSGML v1.0//EN
CALSCALE:GREGORIAN
METHOD:PUBLISH
X-WR-CALNAME:Bürgerstiftung-OS
X-ORIGINAL-URL:https://staging.buergerstiftung-os.de
X-WR-CALDESC:Veranstaltungen für Bürgerstiftung-OS
REFRESH-INTERVAL;VALUE=DURATION:PT1H
X-Robots-Tag:noindex
X-PUBLISHED-TTL:PT1H
BEGIN:VTIMEZONE
TZID:Europe/Berlin
BEGIN:DAYLIGHT
TZOFFSETFROM:+0100
TZOFFSETTO:+0200
TZNAME:CEST
DTSTART:20220327T010000
END:DAYLIGHT
BEGIN:STANDARD
TZOFFSETFROM:+0200
TZOFFSETTO:+0100
TZNAME:CET
DTSTART:20221030T010000
END:STANDARD
BEGIN:DAYLIGHT
TZOFFSETFROM:+0100
TZOFFSETTO:+0200
TZNAME:CEST
DTSTART:20230326T010000
END:DAYLIGHT
BEGIN:STANDARD
TZOFFSETFROM:+0200
TZOFFSETTO:+0100
TZNAME:CET
DTSTART:20231029T010000
END:STANDARD
BEGIN:DAYLIGHT
TZOFFSETFROM:+0100
TZOFFSETTO:+0200
TZNAME:CEST
DTSTART:20240331T010000
END:DAYLIGHT
BEGIN:STANDARD
TZOFFSETFROM:+0200
TZOFFSETTO:+0100
TZNAME:CET
DTSTART:20241027T010000
END:STANDARD
BEGIN:DAYLIGHT
TZOFFSETFROM:+0100
TZOFFSETTO:+0200
TZNAME:CEST
DTSTART:20250330T010000
END:DAYLIGHT
BEGIN:STANDARD
TZOFFSETFROM:+0200
TZOFFSETTO:+0100
TZNAME:CET
DTSTART:20251026T010000
END:STANDARD
END:VTIMEZONE
BEGIN:VEVENT
DTSTART;TZID=Europe/Berlin:20250824T140000
DTEND;TZID=Europe/Berlin:20250824T180000
DTSTAMP:20260419T224744
CREATED:20250331T070151Z
LAST-MODIFIED:20250331T073129Z
UID:10000843-1756044000-1756058400@staging.buergerstiftung-os.de
SUMMARY:Familientag der Bürgerstiftung
DESCRIPTION:Familientag der Bürgerstiftung Osnabrück\nKreativ mit Bewegung\, Theater\, Musik und Kunst\nKostenfreie Mitmach-Angebote für die ganze Familie\nDie Bürgerstiftung feiert wieder! Am Sonntag\, den 24. August 2025 findet der dritte Familientag der Bürgerstiftung Osnabrück statt. Auf den Grünflächen des Bürgersparks stellen sich wieder die Projekte und Kooperationspartner:innen der Bürgerstiftung mit vielen Mitmach-Aktionen vor. Gefeiert wird von 14 bis 18 Uhr. \nVor Ort wartet auf Familien ein buntes Angebot mit Bewegung\, Kunst und Kultur. Die Projekte und Initiativen der Bürgerstiftung bieten von Kinderschminken über Ballspiele bis hin zu einem Mitmach-Atelier allerhand spannende Aktionen für die ganze Familie. Für Kaffee und Kuchen ist ebenfalls gesorgt. \nHier das Programm im Detail:  \n\nKiBS – Bewegungs-Parcours \n\nDie Initiative Kinder-Bewegungsstadt (KiBS) der Bürgerstiftung setzt sich für die Schaffung kostenfreier Bewegungsräume für Osnabrücker Kinder ein. Heute lädt KiBS zum Balancieren\, Klettern\, Steigen und Bewegen mit und ohne Ball ein. \n\nBallspiele mit BaKoS\n\nSeit über 10 Jahren bietet die Osnabrücker Ballschule BaKoS gemeinsam mit der Bürgerstiftung Osnabrück kostenfreie Ballstunden für Kinder ab 3 Jahren an. Das Angebot kann auf mittlerweile sieben Osnabrücker Bolzplätzen genutzt werden. BaKoS ist Teil des Familienfestes der Bürgerstiftung Osnabrück und bietet im Bürgerpark eine Vielfalt an Ideen und Anregungen für ein buntes Spielen mit dem Ball für und mit Familien. \n\nFamily-Fitness mit Körperfreunden\n\nMit den Körperfreunden Osnabrück hat KiBS einen Kooperationspartner\, der für eine gesunde und gemeinsame Sportzeit für Groß und Klein steht\, die vor allem Spaß macht und fit hält. Spielerisch mit jeder Menge Bewegungsfreude wird hier um die Wette gelaufen\, beim Tauziehen Kräfte gemessen und mit Mama\, Papa\, Oma\, Opa oder großen Freunden zusammen gesportelt und gespielt. \n\nK3-Mitmach-Atelier \n\nMit dem Projekt „K 3 – Kultur macht Kinder stark!“ bietet die Bürgerstiftung Osnabrück Kindern und Jugendlichen einen lebendigen Zugang zu Kultur und Bildung mit Kunst\, Musik und Theater. Beim Kunstatelier können Kinder und Jugendliche Kunst erfahren\, Kunst gestalten\, Farben und Formen erleben. Gemeinsam mit Osnabrücker KünstlerInnen wird ein vielfältiges Angebot gestaltet. Es geht darum\, Farben zu mischen\, Alltagsgegenstände kunstvoll nutzen\, Formen gestalten\, Bilder malen\, Masken erstellen.  \n\nK3-Kostümtheater\n\nEin weiteres Angebot aus dem Projekt K3 ist das Kostümtheater. Hier können verschiedene Rollen angenommen und erste Schauspiel-Erfahrung gesammelt werden. \n\nK3-Mitmachkonzert mit Heaven \n\nDer Künstler Heaven präsentiert Musik\, Rhythmus\, Melodie und Songs zum Ausprobieren und Auf-die-Bühne-Bringen. Hier ist jeder eingeladen zum Mitmachen und Mitsingen – ein großer Spaß für Groß und Klein. \n\nTalentScout mit Judo & Tanzen\n\nMit dem Projekt „Talent Scout“ ist die Bürgerstiftung Osnabrück Botschafter für ein friedvolles\, interkulturelles Miteinander. Zusammen mit den Sportler*innen könnt ihr im Bürgerpark bei Judo und rhythmischen Tänzen nicht nur eure Körperkräfte erleben\, sondern bekommt auch einen Eindruck\, wie durch Sport und gemeinsame Erfolgserlebnisse Gemeinschaft entstehen und Berührungsängste abgebaut werden können.  \n\nKiBS-Spiele für Alt & Jung\n\nMit dem neusten Projekt der Kinder-Bewegungsschatz ( KiBS) „Alt & Jung“ werden handlungsorientierte Begegnungen für Alt & Jung geplant und geschaffen. Auch beim Familientag soll sich die ganze Familie von Oma/Opa bis Kind bei Spielen\, welche im Projekt erprobt wurden\, begegnen.  \n\nFoto-Aktion für Groß und Klein\n\nDie Bürgerstiftung Osnabrück legt den Fokus auch auf generationsübergreifende Belange. Was braucht Osnabrück\, um eine Mehrgenerationenstadt zu sein? Mit dieser Frage beschäftigen wir uns bei einem netten Beisammensein mit Jung und Alt. Dabei können lustige Polaroid-Schnappschüsse mit Eurer Familie entstehen\, bei denen Kinder\, Eltern und Großeltern nach Lust und Laune die Rollen tauschen können. Eine tolle Erinnerung an den gemeinsamen Tag!
URL:https://staging.buergerstiftung-os.de/veranstaltung/familientag-der-buergerstiftung-2025/
LOCATION:Bürgerpark Osnabrück\, Am Bürgerpark\, Osnabrück\, 49088
CATEGORIES:Familienfest
ATTACH;FMTTYPE=image/jpeg:https://staging.buergerstiftung-os.de/wp-content/uploads/2021/08/PXL_20210912_125909673-scaled.jpg
END:VEVENT
BEGIN:VEVENT
DTSTART;TZID=Europe/Berlin:20240915T140000
DTEND;TZID=Europe/Berlin:20240915T180000
DTSTAMP:20260419T224744
CREATED:20230811T130516Z
LAST-MODIFIED:20250408T104611Z
UID:10000446-1726408800-1726423200@staging.buergerstiftung-os.de
SUMMARY:Familientag der Bürgerstiftung
DESCRIPTION:Familientag der Bürgerstiftung Osnabrück\nKreativ mit Bewegung\, Theater\, Musik und Kunst\nKostenfreie Mitmach-Angebote für die ganze Familie\nDie Bürgerstiftung feiert wieder! Am Sonntag\, den 15. September 2024 findet der dritte Familientag der Bürgerstiftung Osnabrück statt. Auf den Grünflächen des Bürgersparks stellen sich wieder die Projekte und Kooperationspartner:innen der Bürgerstiftung mit vielen Mitmach-Aktionen vor. Gefeiert wird von 14 bis 18 Uhr. \nVor Ort wartet auf Familien ein buntes Angebot mit Bewegung\, Kunst und Kultur. Die Projekte und Initiativen der Bürgerstiftung bieten von Kinderschminken über Ballspiele bis hin zu einem Mitmach-Atelier allerhand spannende Aktionen für die ganze Familie. Für Kaffee und Kuchen ist ebenfalls gesorgt. \nHier das Programm im Detail:  \n\nKiBS – Bewegungs-Parcours \n\nDie Initiative Kinder-Bewegungsstadt (KiBS) der Bürgerstiftung setzt sich für die Schaffung kostenfreier Bewegungsräume für Osnabrücker Kinder ein. Heute lädt KiBS zum Balancieren\, Klettern\, Steigen und Bewegen mit und ohne Ball ein. \n\nBallspiele mit BaKoS\n\nSeit über 10 Jahren bietet die Osnabrücker Ballschule BaKoS gemeinsam mit der Bürgerstiftung Osnabrück kostenfreie Ballstunden für Kinder ab 3 Jahren an. Das Angebot kann auf mittlerweile sieben Osnabrücker Bolzplätzen genutzt werden. BaKoS ist Teil des Familienfestes der Bürgerstiftung Osnabrück und bietet im Bürgerpark eine Vielfalt an Ideen und Anregungen für ein buntes Spielen mit dem Ball für und mit Familien. \n\nFamily-Fitness mit Körperfreunden\n\nMit den Körperfreunden Osnabrück hat KiBS einen Kooperationspartner\, der für eine gesunde und gemeinsame Sportzeit für Groß und Klein steht\, die vor allem Spaß macht und fit hält. Spielerisch mit jeder Menge Bewegungsfreude wird hier um die Wette gelaufen\, beim Tauziehen Kräfte gemessen und mit Mama\, Papa\, Oma\, Opa oder großen Freunden zusammen gesportelt und gespielt. \n\nK3-Mitmach-Atelier \n\nMit dem Projekt „K 3 – Kultur macht Kinder stark!“ bietet die Bürgerstiftung Osnabrück Kindern und Jugendlichen einen lebendigen Zugang zu Kultur und Bildung mit Kunst\, Musik und Theater. Beim Kunstatelier können Kinder und Jugendliche Kunst erfahren\, Kunst gestalten\, Farben und Formen erleben. Gemeinsam mit Osnabrücker KünstlerInnen wird ein vielfältiges Angebot gestaltet. Es geht darum\, Farben zu mischen\, Alltagsgegenstände kunstvoll nutzen\, Formen gestalten\, Bilder malen\, Masken erstellen.  \n\nK3-Kostümtheater\n\nEin weiteres Angebot aus dem Projekt K3 ist das Kostümtheater. Hier können verschiedene Rollen angenommen und erste Schauspiel-Erfahrung gesammelt werden. \n\nK3-Mitmachkonzert mit Heaven \n\nDer Künstler Heaven präsentiert Musik\, Rhythmus\, Melodie und Songs zum Ausprobieren und Auf-die-Bühne-Bringen. Hier ist jeder eingeladen zum Mitmachen und Mitsingen – ein großer Spaß für Groß und Klein. \n\nTalentScout mit Judo & Tanzen\n\nMit dem Projekt „Talent Scout“ ist die Bürgerstiftung Osnabrück Botschafter für ein friedvolles\, interkulturelles Miteinander. Zusammen mit den Sportler*innen könnt ihr im Bürgerpark bei Judo und rhythmischen Tänzen nicht nur eure Körperkräfte erleben\, sondern bekommt auch einen Eindruck\, wie durch Sport und gemeinsame Erfolgserlebnisse Gemeinschaft entstehen und Berührungsängste abgebaut werden können.  \n\nKiBS-Spiele für Alt & Jung\n\nMit dem neusten Projekt der Kinder-Bewegungsschatz ( KiBS) „Alt & Jung“ werden handlungsorientierte Begegnungen für Alt & Jung geplant und geschaffen. Auch beim Familientag soll sich die ganze Familie von Oma/Opa bis Kind bei Spielen\, welche im Projekt erprobt wurden\, begegnen.  \n\nFoto-Aktion für Groß und Klein\n\nDie Bürgerstiftung Osnabrück legt den Fokus auch auf generationsübergreifende Belange. Was braucht Osnabrück\, um eine Mehrgenerationenstadt zu sein? Mit dieser Frage beschäftigen wir uns bei einem netten Beisammensein mit Jung und Alt. Dabei können lustige Polaroid-Schnappschüsse mit Eurer Familie entstehen\, bei denen Kinder\, Eltern und Großeltern nach Lust und Laune die Rollen tauschen können. Eine tolle Erinnerung an den gemeinsamen Tag!
URL:https://staging.buergerstiftung-os.de/veranstaltung/familientag/
LOCATION:Bürgerpark Osnabrück\, Am Bürgerpark\, Osnabrück\, 49088
CATEGORIES:Familienfest
ATTACH;FMTTYPE=image/jpeg:https://staging.buergerstiftung-os.de/wp-content/uploads/2021/08/PXL_20210912_125909673-scaled.jpg
END:VEVENT
BEGIN:VEVENT
DTSTART;TZID=Europe/Berlin:20220703T143000
DTEND;TZID=Europe/Berlin:20220703T180000
DTSTAMP:20260419T224744
CREATED:20220613T134847Z
LAST-MODIFIED:20220613T134847Z
UID:10000809-1656858600-1656871200@staging.buergerstiftung-os.de
SUMMARY:K3-Sommerfest
DESCRIPTION:Schaut zu und macht mit! Das Projekt „K3- und Du bist dabei“ lädt zu einem Sommerfest am 3. Juli ein. \nDas laufende Projektjahr des Projektes „K 3 … und du bist dabei“\, kulturelle Bildung für Kinder und Jugendliche\, geht dem Ende entgegen. Nachdem zwei Jahre aufgrund der Einschränkungen durch die Corona-Pandemie keine öffentlichen Veranstaltungen möglich waren\, wollen wir in diesem Jahr wieder ein kleines Sommerfest veranstalten. Kinder und Jugendliche sind mit ihren Eltern eingeladen\, dabei zu sein. Das Fest findet am Sonntag\, den 3. Juli von 14.30  bis 18.00 Uhr\, auf dem Gelände Am Speicher\, 49090 Osnabrück statt.  \nDie K3-Gruppen wollen die Möglichkeit nutzen\, anderen Kindern und Jugendlichen zu zeigen\, was sie in den Bereichen Kunst\, Theater\, und Musik geschaffen haben. Eigene kleine Kunstwerke oder Theaterszenen werden präsentiert und andere Kinder und Jugendliche zum Mitmachen eingeladen.
URL:https://staging.buergerstiftung-os.de/veranstaltung/k3-sommerfest/
LOCATION:Am Speicher 2\, 49090 Osnabrück\, Am Speicher 2\, Osnabrück\, Germany
CATEGORIES:K3
ATTACH;FMTTYPE=image/jpeg:https://staging.buergerstiftung-os.de/wp-content/uploads/2022/06/Kind-mit-Ballons.jpg
END:VEVENT
END:VCALENDAR