BEGIN:VCALENDAR
VERSION:2.0
PRODID:-//Bürgerstiftung-OS - ECPv6.11.2//NONSGML v1.0//EN
CALSCALE:GREGORIAN
METHOD:PUBLISH
X-ORIGINAL-URL:https://staging.buergerstiftung-os.de
X-WR-CALDESC:Veranstaltungen für Bürgerstiftung-OS
REFRESH-INTERVAL;VALUE=DURATION:PT1H
X-Robots-Tag:noindex
X-PUBLISHED-TTL:PT1H
BEGIN:VTIMEZONE
TZID:Europe/Berlin
BEGIN:DAYLIGHT
TZOFFSETFROM:+0100
TZOFFSETTO:+0200
TZNAME:CEST
DTSTART:20210328T010000
END:DAYLIGHT
BEGIN:STANDARD
TZOFFSETFROM:+0200
TZOFFSETTO:+0100
TZNAME:CET
DTSTART:20211031T010000
END:STANDARD
BEGIN:DAYLIGHT
TZOFFSETFROM:+0100
TZOFFSETTO:+0200
TZNAME:CEST
DTSTART:20220327T010000
END:DAYLIGHT
BEGIN:STANDARD
TZOFFSETFROM:+0200
TZOFFSETTO:+0100
TZNAME:CET
DTSTART:20221030T010000
END:STANDARD
END:VTIMEZONE
BEGIN:VEVENT
DTSTART;TZID=Europe/Berlin:20220629T104500
DTEND;TZID=Europe/Berlin:20220629T114500
DTSTAMP:20260420T022619
CREATED:20220316T133816Z
LAST-MODIFIED:20220316T134254Z
UID:10000808-1656499500-1656503100@staging.buergerstiftung-os.de
SUMMARY:Babys in Bewegung\, 9.-12. Lebensmonat (Einstiegsalter)
DESCRIPTION:Babys erobern sich über Bewegung ihre Welt. Besonders spannend wird dies in den Übergängen zum Sitzen\, Krabbeln\, Stehen\, Laufen. Mit spielerischen Anregungen\, Geräten und Aufbauten für die Kleinsten fördern wir die Freude an der Bewegung und stärken die Muskelkraft. \nAnmeldung
URL:https://staging.buergerstiftung-os.de/veranstaltung/babys-in-bewegung-9-12-lebensmonat-einstiegsalter-2/2022-06-29/
LOCATION:FABI Osnabrück\, Große Rosenstraße 18\, Osnabrück\, Niedersachsen\, 49074\, Germany
CATEGORIES:Babys in Bewegung (9.-12. Lebensmonat)
ATTACH;FMTTYPE=image/jpeg:https://staging.buergerstiftung-os.de/wp-content/uploads/2021/08/Babys-in-Bewegung-2.jpg
ORGANIZER;CN="KiBS - Kinderbewegungsstadt Osnabr%C3%BCck":MAILTO:Buergerstiftung-kibs@osnabrück.de
END:VEVENT
BEGIN:VEVENT
DTSTART;TZID=Europe/Berlin:20220622T094500
DTEND;TZID=Europe/Berlin:20220622T103000
DTSTAMP:20260420T022619
CREATED:20220316T133536Z
LAST-MODIFIED:20220316T133536Z
UID:10000797-1655891100-1655893800@staging.buergerstiftung-os.de
SUMMARY:Babys in Bewegung\, 6.-8. Lebensmonat (Einstiegsalter)
DESCRIPTION:Babys erobern sich über Bewegung ihre Welt. Besonders spannend wird dies in den Übergängen zum Sitzen\, Krabbeln\, Stehen\, Laufen. Mit spielerischen Anregungen\, Geräten und Aufbauten für die Kleinsten fördern wir die Freude an der Bewegung und stärken die Muskelkraft. \nLeitung: Marina Bauhaus \nAnmeldung
URL:https://staging.buergerstiftung-os.de/veranstaltung/babys-in-bewegung-6-8-lebensmonat-einstiegsalter/2022-06-22/
LOCATION:FABI Osnabrück\, Große Rosenstraße 18\, Osnabrück\, Niedersachsen\, 49074\, Germany
CATEGORIES:Babys in Bewegung (6.-8. Lebensmonat)
ATTACH;FMTTYPE=image/jpeg:https://staging.buergerstiftung-os.de/wp-content/uploads/2021/08/Babys-in-Bewegung.jpg
ORGANIZER;CN="KiBS - Kinderbewegungsstadt Osnabr%C3%BCck":MAILTO:Buergerstiftung-kibs@osnabrück.de
END:VEVENT
BEGIN:VEVENT
DTSTART;TZID=Europe/Berlin:20211026T163000
DTEND;TZID=Europe/Berlin:20211026T173000
DTSTAMP:20260420T022619
CREATED:20210830T125128Z
LAST-MODIFIED:20210907T092942Z
UID:10000460-1635265800-1635269400@staging.buergerstiftung-os.de
SUMMARY:FamilyFitness
DESCRIPTION: „FamilyFitness“ – hier sporteln Groß und Klein zusammen. \nSpielplatz C.H. Gosling-Platz\, Katharinenviertel \nEltern und Kinder (3-10 Jahre) bekommen ihre individuelle Portion Sport\, denn die Körperfreunde Osnabrück sorgen für ein professionelles und gesundheitsorientiertes Sportangebot bei dem mit Spiel\, Spaß\, Musik und jeder Menge Action eine sportliche Familienzeit entsteht. Die Kooperation der Kinder-Bewegungsstadt Osnabrück (KiBS) mit den Körperfreunden Osnabrück und der ev. FaBi macht es möglich\, dass Familien im stressigen Alltag eine wöchentliche Sporteinheit wahrnehmen können\, bei der alle auf ihre Kosten kommen. \nEine eigene Matte/Handtuch ist mitzubringen und beachten Sie bitte die Hygiene- und Abstandsregeln. \nDie Teilnahme ist auf 15 Familien beschränkt. \nGeschwisterkinder sind willkommen. \nAnmeldung FamilyFitness\, Spielplatz C.H. Gosling-Platz\, KatharinenviertelDatum der FamilyFitness-Veranstaltung *Nachname *Vorname *E-Mail *Weitere Teilnehmer/-innen *Vielen Dank für Ihre Anmeldung. Wir benachrichtigen Sie\, wenn noch freie Plätze verfügbar sind.×Ein Fehler ist aufgetreten. Bitte versuchen Sie es später noch einmal.×SendenWeitere FamilyFitness-Veranstaltungen
URL:https://staging.buergerstiftung-os.de/veranstaltung/familyfitness-2/2021-10-26/
LOCATION:Spielplatz Carl-Hermann-Gosling-Platz (Katharinenviertel)\, Spielplatz am C.H.Gosling-Platz\, Osnabrück\, Niedersachsen\, 49078\, Germany
CATEGORIES:FamilyFitness
ATTACH;FMTTYPE=image/jpeg:https://staging.buergerstiftung-os.de/wp-content/uploads/2021/08/familybusiness_logobild_xl.jpg
ORGANIZER;CN="KiBS - Kinderbewegungsstadt Osnabr%C3%BCck":MAILTO:Buergerstiftung-kibs@osnabrück.de
END:VEVENT
BEGIN:VEVENT
DTSTART;TZID=Europe/Berlin:20211013T104500
DTEND;TZID=Europe/Berlin:20211013T114500
DTSTAMP:20260420T022619
CREATED:20210830T091801Z
LAST-MODIFIED:20210914T071820Z
UID:10000452-1634121900-1634125500@staging.buergerstiftung-os.de
SUMMARY:Babys in Bewegung\, 9.-12. Lebensmonat (Einstiegsalter)
DESCRIPTION:Babys erobern sich über Bewegung ihre Welt. Besonders spannend wird dies in den Übergängen zum Sitzen\, Krabbeln\, Stehen\, Laufen. Mit spielerischen Anregungen\, Geräten und Aufbauten für die Kleinsten fördern wir die Freude an der Bewegung und stärken die Muskelkraft. \nAnmeldung
URL:https://staging.buergerstiftung-os.de/veranstaltung/babys-in-bewegung-9-12-lebensmonat-einstiegsalter/2021-10-13/
LOCATION:FABI Osnabrück\, Große Rosenstraße 18\, Osnabrück\, Niedersachsen\, 49074\, Germany
CATEGORIES:Babys in Bewegung (9.-12. Lebensmonat)
ATTACH;FMTTYPE=image/jpeg:https://staging.buergerstiftung-os.de/wp-content/uploads/2021/08/Babys-in-Bewegung-2.jpg
ORGANIZER;CN="KiBS - Kinderbewegungsstadt Osnabr%C3%BCck":MAILTO:Buergerstiftung-kibs@osnabrück.de
END:VEVENT
BEGIN:VEVENT
DTSTART;TZID=Europe/Berlin:20211013T094500
DTEND;TZID=Europe/Berlin:20211013T103000
DTSTAMP:20260420T022619
CREATED:20210823T080406Z
LAST-MODIFIED:20210914T071713Z
UID:10000427-1634118300-1634121000@staging.buergerstiftung-os.de
SUMMARY:Babys in Bewegung\, 6.-8. Lebensmonat (Einstiegsalter)
DESCRIPTION:Babys erobern sich über Bewegung ihre Welt. Besonders spannend wird dies in den Übergängen zum Sitzen\, Krabbeln\, Stehen\, Laufen. Mit spielerischen Anregungen\, Geräten und Aufbauten für die Kleinsten fördern wir die Freude an der Bewegung und stärken die Muskelkraft. \nLeitung: Marina Bauhaus \nAnmeldung
URL:https://staging.buergerstiftung-os.de/veranstaltung/babys-in-bewegung-6-8-lebensmonat-einstiegsalter-2/2021-10-13/
LOCATION:FABI Osnabrück\, Große Rosenstraße 18\, Osnabrück\, Niedersachsen\, 49074\, Germany
CATEGORIES:Babys in Bewegung (6.-8. Lebensmonat)
ATTACH;FMTTYPE=image/jpeg:https://staging.buergerstiftung-os.de/wp-content/uploads/2021/08/Babys-in-Bewegung.jpg
ORGANIZER;CN="KiBS - Kinderbewegungsstadt Osnabr%C3%BCck":MAILTO:Buergerstiftung-kibs@osnabrück.de
END:VEVENT
BEGIN:VEVENT
DTSTART;TZID=Europe/Berlin:20210918T140000
DTEND;TZID=Europe/Berlin:20210918T170000
DTSTAMP:20260420T022619
CREATED:20210830T063247Z
LAST-MODIFIED:20210830T064347Z
UID:10000445-1631973600-1631984400@staging.buergerstiftung-os.de
SUMMARY:KulturtriathlonOsnabrück: Familien-Kultur-Tage
DESCRIPTION:Familien-Kultur-Tage. Kreativ mit Bewegung\, Theater\, Musik und Kunst.\nKostenlose Angebote u.a. Eltern-Kind-Olympiade mit den Körperfreuden Osnabrück\, K3-Kunstatelier\, K3-Rallye: Riesenschritte zur Kultur. \nDieses Projekt wird im Zuge des KulturTriathlons im Programm Kultursommer 2021 durch die Beauftragte für Kultur und Medien (BKM) mit Mitteln aus NEUSTART KULTUR gefördert. Der KulturTriathlon wird darüber hinaus durch die Stadtwerke Osnabrück\, die VGH-Stiftung\, die Marketing Osnabrück GmbH und die Stadt Osnabrück gefördert.
URL:https://staging.buergerstiftung-os.de/veranstaltung/kulturtriathlon2/
LOCATION:Am Speicher 1\, Speicher\, Osnabrück\, 49090
CATEGORIES:Kulturtriathlon
ATTACH;FMTTYPE=image/jpeg:https://staging.buergerstiftung-os.de/wp-content/uploads/2021/08/childhood-1884281_1920.jpg
ORGANIZER;CN="KiBS - Kinderbewegungsstadt Osnabr%C3%BCck":MAILTO:Buergerstiftung-kibs@osnabrück.de
END:VEVENT
END:VCALENDAR