BEGIN:VCALENDAR
VERSION:2.0
PRODID:-//Bürgerstiftung-OS - ECPv6.11.2//NONSGML v1.0//EN
CALSCALE:GREGORIAN
METHOD:PUBLISH
X-WR-CALNAME:Bürgerstiftung-OS
X-ORIGINAL-URL:https://staging.buergerstiftung-os.de
X-WR-CALDESC:Veranstaltungen für Bürgerstiftung-OS
REFRESH-INTERVAL;VALUE=DURATION:PT1H
X-Robots-Tag:noindex
X-PUBLISHED-TTL:PT1H
BEGIN:VTIMEZONE
TZID:Europe/Berlin
BEGIN:DAYLIGHT
TZOFFSETFROM:+0100
TZOFFSETTO:+0200
TZNAME:CEST
DTSTART:20240331T010000
END:DAYLIGHT
BEGIN:STANDARD
TZOFFSETFROM:+0200
TZOFFSETTO:+0100
TZNAME:CET
DTSTART:20241027T010000
END:STANDARD
END:VTIMEZONE
BEGIN:VEVENT
DTSTART;TZID=Europe/Berlin:20241026T100000
DTEND;TZID=Europe/Berlin:20241026T120000
DTSTAMP:20260420T022140
CREATED:20240919T132021Z
LAST-MODIFIED:20250211T130332Z
UID:10000822-1729936800-1729944000@staging.buergerstiftung-os.de
SUMMARY:Herbstfest Ballspiele 2024
DESCRIPTION:Unser diesjähriges Ballspiel-Fest findet erstmalig schon im Herbst statt\, um den Wechsel der KiBS-Ballspiele von den Osnabrücker Bolzplätzen in die warme und trockene Turnhalle einzuläuten.\n\nAm 26. Oktober 2024 können Kinder und ihre Familien einen bunten Tag rund um den Ball mit KiBS und BaKoS in der Turnhalle des Berufsschulzentrum Westerberg (Halle 1) erleben. Von 10 bis 12 Uhr werden wir Stationen aufbauen\, kleine Aufgaben und Spiele und ganz viel gute Laune bereithalten\, dass wir den Herbst willkommen heißen.\n\nAb November können Kinder ab 3 Jahren dann immer von 16 bis 16:45 Uhr kostenfrei und ohne Anmeldung in der gleichen Halle (BBS Westerberg) mit der Osnabrücker Ballschule BaKoS vielfältige Spiele mit dem Ball ausprobieren.\n\n 
URL:https://staging.buergerstiftung-os.de/veranstaltung/herbstfest-ballspiele-2024/
LOCATION:BBS Westerberg Osnabrück
CATEGORIES:Familienfest,KiBS
ATTACH;FMTTYPE=image/jpeg:https://staging.buergerstiftung-os.de/wp-content/uploads/2024/09/PXL_20231202_111123730.PORTRAIT-scaled.jpg
ORGANIZER;CN="KiBS - Kinderbewegungsstadt Osnabr%C3%BCck":MAILTO:Buergerstiftung-kibs@osnabrück.de
END:VEVENT
END:VCALENDAR