BEGIN:VCALENDAR
VERSION:2.0
PRODID:-//Bürgerstiftung-OS - ECPv6.11.2//NONSGML v1.0//EN
CALSCALE:GREGORIAN
METHOD:PUBLISH
X-WR-CALNAME:Bürgerstiftung-OS
X-ORIGINAL-URL:https://staging.buergerstiftung-os.de
X-WR-CALDESC:Veranstaltungen für Bürgerstiftung-OS
REFRESH-INTERVAL;VALUE=DURATION:PT1H
X-Robots-Tag:noindex
X-PUBLISHED-TTL:PT1H
BEGIN:VTIMEZONE
TZID:Europe/Berlin
BEGIN:DAYLIGHT
TZOFFSETFROM:+0100
TZOFFSETTO:+0200
TZNAME:CEST
DTSTART:20250330T010000
END:DAYLIGHT
BEGIN:STANDARD
TZOFFSETFROM:+0200
TZOFFSETTO:+0100
TZNAME:CET
DTSTART:20251026T010000
END:STANDARD
END:VTIMEZONE
BEGIN:VEVENT
DTSTART;TZID=Europe/Berlin:20250621T100000
DTEND;TZID=Europe/Berlin:20250621T160000
DTSTAMP:20260420T024125
CREATED:20250331T073050Z
LAST-MODIFIED:20250331T073050Z
UID:10000844-1750500000-1750521600@staging.buergerstiftung-os.de
SUMMARY:KiBS SpielZeit
DESCRIPTION:KiBS SpielZeit\nDas Spiel-\, Sport- und Bewegungs-Fest\nMit der SpielZeit möchten wir Kinder im Alter von 1-10 Jahren für Bewegung und Sport begeistern und ihnen die Möglichkeit geben\, die vielseitigen Angebote der lokalen Vereine\, Initiativen und Studios im Quartier Schinkel interaktiv auszuprobieren. \nGenaueres zum Programm folgt in den kommenden Wochen. \nWir freuen uns auf einen bunten Nachmittag mit Euch!
URL:https://staging.buergerstiftung-os.de/veranstaltung/spielzeit2025/
LOCATION:Blau-Weiß Schinkel e.V.\, Gretescher Weg 75\, Osnabrück\, Niedersachsen\, 49084\, Germany
CATEGORIES:KiBS
ATTACH;FMTTYPE=image/jpeg:https://staging.buergerstiftung-os.de/wp-content/uploads/2025/03/Tunnel1-scaled-e1743405930795.jpeg
ORGANIZER;CN="KiBS - Kinderbewegungsstadt Osnabr%C3%BCck":MAILTO:Buergerstiftung-kibs@osnabrück.de
END:VEVENT
END:VCALENDAR