BEGIN:VCALENDAR
VERSION:2.0
PRODID:-//Bürgerstiftung-OS - ECPv6.11.2//NONSGML v1.0//EN
CALSCALE:GREGORIAN
METHOD:PUBLISH
X-WR-CALNAME:Bürgerstiftung-OS
X-ORIGINAL-URL:https://staging.buergerstiftung-os.de
X-WR-CALDESC:Veranstaltungen für Bürgerstiftung-OS
REFRESH-INTERVAL;VALUE=DURATION:PT1H
X-Robots-Tag:noindex
X-PUBLISHED-TTL:PT1H
BEGIN:VTIMEZONE
TZID:Europe/Berlin
BEGIN:DAYLIGHT
TZOFFSETFROM:+0100
TZOFFSETTO:+0200
TZNAME:CEST
DTSTART:20220327T010000
END:DAYLIGHT
BEGIN:STANDARD
TZOFFSETFROM:+0200
TZOFFSETTO:+0100
TZNAME:CET
DTSTART:20221030T010000
END:STANDARD
END:VTIMEZONE
BEGIN:VEVENT
DTSTART;TZID=Europe/Berlin:20221111T160000
DTEND;TZID=Europe/Berlin:20221111T164500
DTSTAMP:20260420T035502
CREATED:20210913T075332Z
LAST-MODIFIED:20220301T092953Z
UID:10000783-1668182400-1668185100@staging.buergerstiftung-os.de
SUMMARY:Kostenloses Ballspielangebot - Schinkel
DESCRIPTION:Bälle rollen\, springen\, fliegen\, prellen  und hüpfen auf Osnabrücker Bolzplätzen. \nKinder zum Spielen im Freien anregen\, die Vielfalt von Bewegung und Spiel mit dem Ball erlebbar machen und gemeinsam Spaß haben – das sind die Ziele der KiBS-Ballspiele. In Begleitung von Ballspieltrainern der Osnabrücker Ballschule e.V. (BaKoS) können Kinder von 3-10 Jahren wöchentlich und bei Wind und Wetter auf Osnabrücker Bolzplätzen zusammenkommen und mit dem Ball kreativ werden. \n\nWir freuen uns auf euch! \nEuer BaKoS-Team
URL:https://staging.buergerstiftung-os.de/veranstaltung/kostenloses-ballspielangebot-schinkel/2022-11-11/
LOCATION:Bolzplatz Heiligenwegschule (Schinkel)\, Heiligenweg 40\, Osnabrück\, 49084\, Germany
CATEGORIES:Kostenloses Ballspielangebot
ATTACH;FMTTYPE=image/jpeg:https://staging.buergerstiftung-os.de/wp-content/uploads/2021/08/platzhalter_kibs_veranstaltung_xl.jpg
ORGANIZER;CN="KiBS - Kinderbewegungsstadt Osnabr%C3%BCck":MAILTO:Buergerstiftung-kibs@osnabrück.de
END:VEVENT
END:VCALENDAR