BEGIN:VCALENDAR
VERSION:2.0
PRODID:-//Bürgerstiftung-OS - ECPv6.11.2//NONSGML v1.0//EN
CALSCALE:GREGORIAN
METHOD:PUBLISH
X-ORIGINAL-URL:https://staging.buergerstiftung-os.de
X-WR-CALDESC:Veranstaltungen für Bürgerstiftung-OS
REFRESH-INTERVAL;VALUE=DURATION:PT1H
X-Robots-Tag:noindex
X-PUBLISHED-TTL:PT1H
BEGIN:VTIMEZONE
TZID:Europe/Berlin
BEGIN:DAYLIGHT
TZOFFSETFROM:+0100
TZOFFSETTO:+0200
TZNAME:CEST
DTSTART:20240331T010000
END:DAYLIGHT
BEGIN:STANDARD
TZOFFSETFROM:+0200
TZOFFSETTO:+0100
TZNAME:CET
DTSTART:20241027T010000
END:STANDARD
BEGIN:DAYLIGHT
TZOFFSETFROM:+0100
TZOFFSETTO:+0200
TZNAME:CEST
DTSTART:20250330T010000
END:DAYLIGHT
BEGIN:STANDARD
TZOFFSETFROM:+0200
TZOFFSETTO:+0100
TZNAME:CET
DTSTART:20251026T010000
END:STANDARD
END:VTIMEZONE
BEGIN:VEVENT
DTSTART;VALUE=DATE:20250921
DTEND;VALUE=DATE:20250922
DTSTAMP:20260419T230413
CREATED:20250331T063445Z
LAST-MODIFIED:20250331T063445Z
UID:10000842-1758412800-1758499199@staging.buergerstiftung-os.de
SUMMARY:Weltkindertag 2025
DESCRIPTION:Auch in diesem Jahr feiern wir mit Osnabrücker Familien den Weltkindertag im September mit vielen bunten Angeboten und Aktionen für Kinder. \nGenaueres zum Programm und dem Veranstalter findet ihr unter: www.weltkindertag-os.de
URL:https://staging.buergerstiftung-os.de/veranstaltung/weltkindertag-2025/
LOCATION:Rathausplatz Osnabrück\, Am Markt\, Osnabrück
CATEGORIES:Familienfest,KiBS
ATTACH;FMTTYPE=image/jpeg:https://staging.buergerstiftung-os.de/wp-content/uploads/2024/07/ca8a657c-10c3-4a84-9425-4b0c5287745a.jpg
ORGANIZER;CN="KiBS - Kinderbewegungsstadt Osnabr%C3%BCck":MAILTO:Buergerstiftung-kibs@osnabrück.de
END:VEVENT
BEGIN:VEVENT
DTSTART;VALUE=DATE:20240922
DTEND;VALUE=DATE:20240923
DTSTAMP:20260419T230413
CREATED:20240702T100232Z
LAST-MODIFIED:20240702T105110Z
UID:10000814-1726963200-1727049599@staging.buergerstiftung-os.de
SUMMARY:Weltkindertag 2024
DESCRIPTION:Auch in diesem Jahr feiern wir mit Osnabrücker Familien den Weltkindertag im September mit vielen bunten Angeboten und Aktionen für Kinder.
URL:https://staging.buergerstiftung-os.de/veranstaltung/weltkindertag-am-22-09-2024/
LOCATION:Rathausplatz Osnabrück\, Am Markt\, Osnabrück
CATEGORIES:Familienfest,KiBS
ATTACH;FMTTYPE=image/jpeg:https://staging.buergerstiftung-os.de/wp-content/uploads/2024/07/ca8a657c-10c3-4a84-9425-4b0c5287745a.jpg
ORGANIZER;CN="KiBS - Kinderbewegungsstadt Osnabr%C3%BCck":MAILTO:Buergerstiftung-kibs@osnabrück.de
END:VEVENT
END:VCALENDAR