BEGIN:VCALENDAR
VERSION:2.0
PRODID:-//Bürgerstiftung-OS - ECPv6.11.2//NONSGML v1.0//EN
CALSCALE:GREGORIAN
METHOD:PUBLISH
X-ORIGINAL-URL:https://staging.buergerstiftung-os.de
X-WR-CALDESC:Veranstaltungen für Bürgerstiftung-OS
REFRESH-INTERVAL;VALUE=DURATION:PT1H
X-Robots-Tag:noindex
X-PUBLISHED-TTL:PT1H
BEGIN:VTIMEZONE
TZID:Europe/Berlin
BEGIN:DAYLIGHT
TZOFFSETFROM:+0100
TZOFFSETTO:+0200
TZNAME:CEST
DTSTART:20210328T010000
END:DAYLIGHT
BEGIN:STANDARD
TZOFFSETFROM:+0200
TZOFFSETTO:+0100
TZNAME:CET
DTSTART:20211031T010000
END:STANDARD
END:VTIMEZONE
BEGIN:VEVENT
DTSTART;TZID=Europe/Berlin:20211026T163000
DTEND;TZID=Europe/Berlin:20211026T173000
DTSTAMP:20260420T053123
CREATED:20210830T125128Z
LAST-MODIFIED:20210907T092942Z
UID:10000460-1635265800-1635269400@staging.buergerstiftung-os.de
SUMMARY:FamilyFitness
DESCRIPTION: „FamilyFitness“ – hier sporteln Groß und Klein zusammen. \nSpielplatz C.H. Gosling-Platz\, Katharinenviertel \nEltern und Kinder (3-10 Jahre) bekommen ihre individuelle Portion Sport\, denn die Körperfreunde Osnabrück sorgen für ein professionelles und gesundheitsorientiertes Sportangebot bei dem mit Spiel\, Spaß\, Musik und jeder Menge Action eine sportliche Familienzeit entsteht. Die Kooperation der Kinder-Bewegungsstadt Osnabrück (KiBS) mit den Körperfreunden Osnabrück und der ev. FaBi macht es möglich\, dass Familien im stressigen Alltag eine wöchentliche Sporteinheit wahrnehmen können\, bei der alle auf ihre Kosten kommen. \nEine eigene Matte/Handtuch ist mitzubringen und beachten Sie bitte die Hygiene- und Abstandsregeln. \nDie Teilnahme ist auf 15 Familien beschränkt. \nGeschwisterkinder sind willkommen. \nAnmeldung FamilyFitness\, Spielplatz C.H. Gosling-Platz\, KatharinenviertelDatum der FamilyFitness-Veranstaltung *Nachname *Vorname *E-Mail *Weitere Teilnehmer/-innen *Vielen Dank für Ihre Anmeldung. Wir benachrichtigen Sie\, wenn noch freie Plätze verfügbar sind.×Ein Fehler ist aufgetreten. Bitte versuchen Sie es später noch einmal.×SendenWeitere FamilyFitness-Veranstaltungen
URL:https://staging.buergerstiftung-os.de/veranstaltung/familyfitness-2/2021-10-26/
LOCATION:Spielplatz Carl-Hermann-Gosling-Platz (Katharinenviertel)\, Spielplatz am C.H.Gosling-Platz\, Osnabrück\, Niedersachsen\, 49078\, Germany
CATEGORIES:FamilyFitness
ATTACH;FMTTYPE=image/jpeg:https://staging.buergerstiftung-os.de/wp-content/uploads/2021/08/familybusiness_logobild_xl.jpg
ORGANIZER;CN="KiBS - Kinderbewegungsstadt Osnabr%C3%BCck":MAILTO:Buergerstiftung-kibs@osnabrück.de
END:VEVENT
END:VCALENDAR